BEGIN:VCALENDAR
VERSION:2.0
PRODID:-//iHR Australia - ECPv6.15.20//NONSGML v1.0//EN
CALSCALE:GREGORIAN
METHOD:PUBLISH
X-ORIGINAL-URL:https://ihraustralia.com
X-WR-CALDESC:Events for iHR Australia
REFRESH-INTERVAL;VALUE=DURATION:PT1H
X-Robots-Tag:noindex
X-PUBLISHED-TTL:PT1H
BEGIN:VTIMEZONE
TZID:Australia/Sydney
BEGIN:STANDARD
TZOFFSETFROM:+1100
TZOFFSETTO:+1000
TZNAME:AEST
DTSTART:20240406T160000
END:STANDARD
BEGIN:DAYLIGHT
TZOFFSETFROM:+1000
TZOFFSETTO:+1100
TZNAME:AEDT
DTSTART:20241005T160000
END:DAYLIGHT
BEGIN:STANDARD
TZOFFSETFROM:+1100
TZOFFSETTO:+1000
TZNAME:AEST
DTSTART:20250405T160000
END:STANDARD
BEGIN:DAYLIGHT
TZOFFSETFROM:+1000
TZOFFSETTO:+1100
TZNAME:AEDT
DTSTART:20251004T160000
END:DAYLIGHT
BEGIN:STANDARD
TZOFFSETFROM:+1100
TZOFFSETTO:+1000
TZNAME:AEST
DTSTART:20260404T160000
END:STANDARD
BEGIN:DAYLIGHT
TZOFFSETFROM:+1000
TZOFFSETTO:+1100
TZNAME:AEDT
DTSTART:20261003T160000
END:DAYLIGHT
END:VTIMEZONE
BEGIN:VTIMEZONE
TZID:Australia/Melbourne
BEGIN:STANDARD
TZOFFSETFROM:+1100
TZOFFSETTO:+1000
TZNAME:AEST
DTSTART:20240406T160000
END:STANDARD
BEGIN:DAYLIGHT
TZOFFSETFROM:+1000
TZOFFSETTO:+1100
TZNAME:AEDT
DTSTART:20241005T160000
END:DAYLIGHT
BEGIN:STANDARD
TZOFFSETFROM:+1100
TZOFFSETTO:+1000
TZNAME:AEST
DTSTART:20250405T160000
END:STANDARD
BEGIN:DAYLIGHT
TZOFFSETFROM:+1000
TZOFFSETTO:+1100
TZNAME:AEDT
DTSTART:20251004T160000
END:DAYLIGHT
BEGIN:STANDARD
TZOFFSETFROM:+1100
TZOFFSETTO:+1000
TZNAME:AEST
DTSTART:20260404T160000
END:STANDARD
BEGIN:DAYLIGHT
TZOFFSETFROM:+1000
TZOFFSETTO:+1100
TZNAME:AEDT
DTSTART:20261003T160000
END:DAYLIGHT
END:VTIMEZONE
BEGIN:VTIMEZONE
TZID:Australia/Perth
BEGIN:STANDARD
TZOFFSETFROM:+0800
TZOFFSETTO:+0800
TZNAME:AWST
DTSTART:20240101T000000
END:STANDARD
END:VTIMEZONE
BEGIN:VEVENT
DTSTART;TZID=Australia/Sydney:20250902T090000
DTEND;TZID=Australia/Sydney:20250902T124500
DTSTAMP:20260419T220534
CREATED:20250515T062131Z
LAST-MODIFIED:20250819T052251Z
UID:10000267-1756803600-1756817100@ihraustralia.com
SUMMARY:Leading Respect in the Workplace
DESCRIPTION:
URL:https://ihraustralia.com/public-training-event/anti-discrimination-bullying-and-harassment-training-for-managers-2-sep/
LOCATION:VIRTUAL
CATEGORIES:Virtual
ATTACH;FMTTYPE=image/png:https://ihraustralia.com/wp-content/uploads/2025/05/COC-2-SEP.png
ORGANIZER;CN="iHR Australia":MAILTO:publictraining@ihraustralia.com
END:VEVENT
BEGIN:VEVENT
DTSTART;TZID=Australia/Melbourne:20250911T090000
DTEND;TZID=Australia/Melbourne:20250911T123000
DTSTAMP:20260419T220534
CREATED:20250515T040128Z
LAST-MODIFIED:20250904T020538Z
UID:10000263-1757581200-1757593800@ihraustralia.com
SUMMARY:Managing Workplace Investigations - Half Day Workshop
DESCRIPTION:Make the Most of Your Training Day\nJoin our comprehensive ‘Resolving Workplace Conflict’ workshop on the same day in the afternoon and become a skilled workplace mediator. Our flexible program lets you: \nSelect a focused half-day session:\nResolving Workplace Conflict (1:30-5:00pm) \nMaximise your expertise with our full-day program:\nCombined Training – Investigations and Mediations \nAttend both sessions at a special discounted rate and gain complete conflict resolution skills
URL:https://ihraustralia.com/public-training-event/managing-workplace-investigations-half-day-30-oct/
LOCATION:VIRTUAL
CATEGORIES:Virtual
ATTACH;FMTTYPE=image/png:https://ihraustralia.com/wp-content/uploads/2025/05/INV-30-OCT.png
ORGANIZER;CN="iHR Australia":MAILTO:publictraining@ihraustralia.com
END:VEVENT
BEGIN:VEVENT
DTSTART;TZID=Australia/Melbourne:20250911T090000
DTEND;TZID=Australia/Melbourne:20250911T170000
DTSTAMP:20260419T220534
CREATED:20250515T035100Z
LAST-MODIFIED:20250904T053734Z
UID:10000261-1757581200-1757610000@ihraustralia.com
SUMMARY:Managing Workplace Investigations + Resolving Workplace Conflict - Bundled Workshop
DESCRIPTION:Make the Most of Your Training Day\nAttend both these workshops to gain complete conflict resolution skills. Choose between targeted half-day sessions focusing on investigations or mediations\, or maximise your learning with our discounted full-day program that covers both courses. \nCourse Presentation \nManaging Workplace Investigations \n9am-12:30pm \n\nResolving Workplace Conflict \n1:30-5:00pm
URL:https://ihraustralia.com/public-training-event/managing-workplace-investigations-resolving-workplace-conflict-23-oct/
LOCATION:VIRTUAL
CATEGORIES:Virtual
ATTACH;FMTTYPE=image/png:https://ihraustralia.com/wp-content/uploads/2025/05/COM-30-OCT.png
ORGANIZER;CN="iHR Australia":MAILTO:publictraining@ihraustralia.com
END:VEVENT
BEGIN:VEVENT
DTSTART;TZID=Australia/Melbourne:20250911T133000
DTEND;TZID=Australia/Melbourne:20250911T170000
DTSTAMP:20260419T220534
CREATED:20250515T035533Z
LAST-MODIFIED:20250904T020456Z
UID:10000262-1757597400-1757610000@ihraustralia.com
SUMMARY:Resolving Workplace Conflict - Half Day Workshop
DESCRIPTION:Make the Most of Your Training Day\nJoin our comprehensive ‘Managing Workplace Investigations’ workshop on the same day in the morning and become a skilled workplace investigator. Our flexible program lets you: \nSelect a focused half-day session:\nManaging Workplace Investigations (9:00am – 12:30pm) \nMaximise your expertise with our full-day program:\nCombined Training – Investigations and Mediations \nAttend both sessions at a special discounted rate and gain complete conflict resolution skills
URL:https://ihraustralia.com/public-training-event/resolving-workplace-conflict-half-day-30-oct/
LOCATION:VIRTUAL
CATEGORIES:Virtual
ATTACH;FMTTYPE=image/png:https://ihraustralia.com/wp-content/uploads/2025/05/MED-30-OCT.png
ORGANIZER;CN="iHR Australia":MAILTO:publictraining@ihraustralia.com
END:VEVENT
BEGIN:VEVENT
DTSTART;TZID=Australia/Melbourne:20250916T120000
DTEND;TZID=Australia/Melbourne:20250916T163000
DTSTAMP:20260419T220534
CREATED:20250730T050247Z
LAST-MODIFIED:20250801T052015Z
UID:10000276-1758024000-1758040200@ihraustralia.com
SUMMARY:Contact Officer Training
DESCRIPTION:
URL:https://ihraustralia.com/public-training-event/contact-officer-training-16-sep/
LOCATION:VIRTUAL
CATEGORIES:Virtual
ATTACH;FMTTYPE=image/png:https://ihraustralia.com/wp-content/uploads/2025/07/COT-16-SEP.png
ORGANIZER;CN="iHR Australia":MAILTO:publictraining@ihraustralia.com
END:VEVENT
BEGIN:VEVENT
DTSTART;TZID=Australia/Perth:20250918T090000
DTEND;TZID=Australia/Perth:20250918T124500
DTSTAMP:20260419T220534
CREATED:20250807T003328Z
LAST-MODIFIED:20250912T024124Z
UID:10000278-1758186000-1758199500@ihraustralia.com
SUMMARY:Leading Respect in the Workplace *NEW*
DESCRIPTION:
URL:https://ihraustralia.com/public-training-event/leading-respect-in-the-workplace-new/
LOCATION:Cliftons Perth\, 191 St Georges Terrace\, Perth\, WA\, 6000\, Australia
CATEGORIES:Perth
ATTACH;FMTTYPE=image/jpeg:https://ihraustralia.com/wp-content/uploads/2025/08/CoC-18-Sept.jpg
ORGANIZER;CN="iHR Australia":MAILTO:publictraining@ihraustralia.com
END:VEVENT
END:VCALENDAR