BEGIN:VCALENDAR
VERSION:2.0
PRODID:-//iHR Australia - ECPv6.15.20//NONSGML v1.0//EN
CALSCALE:GREGORIAN
METHOD:PUBLISH
X-WR-CALNAME:iHR Australia
X-ORIGINAL-URL:https://ihraustralia.com
X-WR-CALDESC:Events for iHR Australia
REFRESH-INTERVAL;VALUE=DURATION:PT1H
X-Robots-Tag:noindex
X-PUBLISHED-TTL:PT1H
BEGIN:VTIMEZONE
TZID:Australia/Melbourne
BEGIN:STANDARD
TZOFFSETFROM:+1100
TZOFFSETTO:+1000
TZNAME:AEST
DTSTART:20240406T160000
END:STANDARD
BEGIN:DAYLIGHT
TZOFFSETFROM:+1000
TZOFFSETTO:+1100
TZNAME:AEDT
DTSTART:20241005T160000
END:DAYLIGHT
BEGIN:STANDARD
TZOFFSETFROM:+1100
TZOFFSETTO:+1000
TZNAME:AEST
DTSTART:20250405T160000
END:STANDARD
BEGIN:DAYLIGHT
TZOFFSETFROM:+1000
TZOFFSETTO:+1100
TZNAME:AEDT
DTSTART:20251004T160000
END:DAYLIGHT
BEGIN:STANDARD
TZOFFSETFROM:+1100
TZOFFSETTO:+1000
TZNAME:AEST
DTSTART:20260404T160000
END:STANDARD
BEGIN:DAYLIGHT
TZOFFSETFROM:+1000
TZOFFSETTO:+1100
TZNAME:AEDT
DTSTART:20261003T160000
END:DAYLIGHT
END:VTIMEZONE
BEGIN:VEVENT
DTSTART;TZID=Australia/Melbourne:20250729T090000
DTEND;TZID=Australia/Melbourne:20250729T123000
DTSTAMP:20260420T011515
CREATED:20250514T060314Z
LAST-MODIFIED:20250627T055909Z
UID:10000256-1753779600-1753792200@ihraustralia.com
SUMMARY:Managing Workplace Investigations - Half Day Workshop
DESCRIPTION:Make the Most of Your Training Day\nJoin our comprehensive ‘Resolving Workplace Conflict’ workshop on the same day in the afternoon and become a skilled workplace mediator. Our flexible program lets you: \nSelect a focused half-day session:\nResolving Workplace Conflict (1:30-5:00pm) \nMaximise your expertise with our full-day program:\nCombined Training – Investigations and Mediations \nAttend both sessions at a special discounted rate and gain complete conflict resolution skills
URL:https://ihraustralia.com/public-training-event/managing-workplace-investigations-half-day-29-jul/
LOCATION:Cliftons Sydney\, 13/60 Margaret Street\, Sydney\, NSW\, 2000\, Australia
CATEGORIES:Sydney
ATTACH;FMTTYPE=image/png:https://ihraustralia.com/wp-content/uploads/2025/05/INV-JUL-29.png
ORGANIZER;CN="iHR Australia":MAILTO:publictraining@ihraustralia.com
END:VEVENT
BEGIN:VEVENT
DTSTART;TZID=Australia/Melbourne:20250729T090000
DTEND;TZID=Australia/Melbourne:20250729T170000
DTSTAMP:20260420T011515
CREATED:20250514T060314Z
LAST-MODIFIED:20250722T070912Z
UID:10000254-1753779600-1753808400@ihraustralia.com
SUMMARY:Managing Workplace Investigations + Resolving Workplace Conflict - Bundled Workshop
DESCRIPTION:Make the Most of Your Training Day\nAttend both these workshops to gain complete conflict resolution skills. Choose between targeted half-day sessions focusing on investigations or mediations\, or maximise your learning with our discounted full-day program that covers both courses. \nCourse Presentation \nManaging Workplace Investigations \n9am-12:30pm \n\nResolving Workplace Conflict \n1:30-5:00pm
URL:https://ihraustralia.com/public-training-event/managing-workplace-investigations-resolving-workplace-jul-29/
LOCATION:Cliftons Sydney\, 13/60 Margaret Street\, Sydney\, NSW\, 2000\, Australia
CATEGORIES:Sydney
ATTACH;FMTTYPE=image/png:https://ihraustralia.com/wp-content/uploads/2025/05/COM-JUL-29.png
ORGANIZER;CN="iHR Australia":MAILTO:publictraining@ihraustralia.com
END:VEVENT
BEGIN:VEVENT
DTSTART;TZID=Australia/Melbourne:20250729T133000
DTEND;TZID=Australia/Melbourne:20250729T170000
DTSTAMP:20260420T011515
CREATED:20250514T061819Z
LAST-MODIFIED:20250627T055923Z
UID:10000257-1753795800-1753808400@ihraustralia.com
SUMMARY:Resolving Workplace Conflict - Half Day Workshop
DESCRIPTION:Make the Most of Your Training Day\nJoin our comprehensive ‘Managing Workplace Investigations’ workshop on the same day in the morning and become a skilled workplace investigator. Our flexible program lets you: \nSelect a focused half-day session:\nManaging Workplace Investigations (9:00am – 12:30pm) \nMaximise your expertise with our full-day program:\nCombined Training – Investigations and Mediations \nAttend both sessions at a special discounted rate and gain complete conflict resolution skills
URL:https://ihraustralia.com/public-training-event/resolving-workplace-conflict-half-day-workshop/
LOCATION:Cliftons Sydney\, 13/60 Margaret Street\, Sydney\, NSW\, 2000\, Australia
CATEGORIES:Sydney
ATTACH;FMTTYPE=image/png:https://ihraustralia.com/wp-content/uploads/2025/05/MED-JUL-29.png
ORGANIZER;CN="iHR Australia":MAILTO:publictraining@ihraustralia.com
END:VEVENT
BEGIN:VEVENT
DTSTART;TZID=Australia/Melbourne:20250731T120000
DTEND;TZID=Australia/Melbourne:20250731T163000
DTSTAMP:20260420T011515
CREATED:20250515T042436Z
LAST-MODIFIED:20250606T063441Z
UID:10000264-1753963200-1753979400@ihraustralia.com
SUMMARY:Contact Officer Training
DESCRIPTION:
URL:https://ihraustralia.com/public-training-event/contact-officer-training-31-jul/
LOCATION:VIRTUAL
CATEGORIES:Virtual
ATTACH;FMTTYPE=image/png:https://ihraustralia.com/wp-content/uploads/2025/05/COT-31-JUL.png
ORGANIZER;CN="iHR Australia":MAILTO:publictraining@ihraustralia.com
END:VEVENT
END:VCALENDAR