BEGIN:VCALENDAR
VERSION:2.0
PRODID:-//iHR Australia - ECPv6.15.20//NONSGML v1.0//EN
CALSCALE:GREGORIAN
METHOD:PUBLISH
X-WR-CALNAME:iHR Australia
X-ORIGINAL-URL:https://ihraustralia.com
X-WR-CALDESC:Events for iHR Australia
REFRESH-INTERVAL;VALUE=DURATION:PT1H
X-Robots-Tag:noindex
X-PUBLISHED-TTL:PT1H
BEGIN:VTIMEZONE
TZID:Australia/Melbourne
BEGIN:STANDARD
TZOFFSETFROM:+1100
TZOFFSETTO:+1000
TZNAME:AEST
DTSTART:20240406T160000
END:STANDARD
BEGIN:DAYLIGHT
TZOFFSETFROM:+1000
TZOFFSETTO:+1100
TZNAME:AEDT
DTSTART:20241005T160000
END:DAYLIGHT
BEGIN:STANDARD
TZOFFSETFROM:+1100
TZOFFSETTO:+1000
TZNAME:AEST
DTSTART:20250405T160000
END:STANDARD
BEGIN:DAYLIGHT
TZOFFSETFROM:+1000
TZOFFSETTO:+1100
TZNAME:AEDT
DTSTART:20251004T160000
END:DAYLIGHT
BEGIN:STANDARD
TZOFFSETFROM:+1100
TZOFFSETTO:+1000
TZNAME:AEST
DTSTART:20260404T160000
END:STANDARD
BEGIN:DAYLIGHT
TZOFFSETFROM:+1000
TZOFFSETTO:+1100
TZNAME:AEDT
DTSTART:20261003T160000
END:DAYLIGHT
END:VTIMEZONE
BEGIN:VTIMEZONE
TZID:Australia/Sydney
BEGIN:STANDARD
TZOFFSETFROM:+1100
TZOFFSETTO:+1000
TZNAME:AEST
DTSTART:20240406T160000
END:STANDARD
BEGIN:DAYLIGHT
TZOFFSETFROM:+1000
TZOFFSETTO:+1100
TZNAME:AEDT
DTSTART:20241005T160000
END:DAYLIGHT
BEGIN:STANDARD
TZOFFSETFROM:+1100
TZOFFSETTO:+1000
TZNAME:AEST
DTSTART:20250405T160000
END:STANDARD
BEGIN:DAYLIGHT
TZOFFSETFROM:+1000
TZOFFSETTO:+1100
TZNAME:AEDT
DTSTART:20251004T160000
END:DAYLIGHT
BEGIN:STANDARD
TZOFFSETFROM:+1100
TZOFFSETTO:+1000
TZNAME:AEST
DTSTART:20260404T160000
END:STANDARD
BEGIN:DAYLIGHT
TZOFFSETFROM:+1000
TZOFFSETTO:+1100
TZNAME:AEDT
DTSTART:20261003T160000
END:DAYLIGHT
END:VTIMEZONE
BEGIN:VEVENT
DTSTART;TZID=Australia/Melbourne:20250617T120000
DTEND;TZID=Australia/Melbourne:20250617T163000
DTSTAMP:20260423T200857
CREATED:20241206T014447Z
LAST-MODIFIED:20250328T052348Z
UID:10000231-1750161600-1750177800@ihraustralia.com
SUMMARY:Contact Officer Training
DESCRIPTION:
URL:https://ihraustralia.com/public-training-event/contact-officer-training-17-june/
LOCATION:VIRTUAL
CATEGORIES:Virtual
ATTACH;FMTTYPE=image/png:https://ihraustralia.com/wp-content/uploads/2024/12/EA-Feature-image-3.png
ORGANIZER;CN="iHR Australia":MAILTO:publictraining@ihraustralia.com
END:VEVENT
BEGIN:VEVENT
DTSTART;TZID=Australia/Melbourne:20250619T090000
DTEND;TZID=Australia/Melbourne:20250619T123000
DTSTAMP:20260423T200857
CREATED:20250109T055611Z
LAST-MODIFIED:20250328T053122Z
UID:10000251-1750323600-1750336200@ihraustralia.com
SUMMARY:Managing Workplace Investigations - Half Day Workshop
DESCRIPTION:Make the Most of Your Training Day\nJoin our comprehensive ‘Resolving Workplace Conflict’ workshop on the same day in the afternoon and become a skilled workplace mediator. Our flexible program lets you: \nSelect a focused half-day session:\nResolving Workplace Conflict (1:30-5:00pm) \nMaximise your expertise with our full-day program:\nWorkplace Conflict Management – Investigations and Mediations \nAttend both sessions at a special discounted rate and gain complete conflict resolution skills
URL:https://ihraustralia.com/public-training-event/managing-workplace-investigations-half-day-workshop-19-june/
LOCATION:Cliftons Brisbane\, 24/288 Edward St\, Brisbane\, QLD\, 4000\, Australia
CATEGORIES:Brisbane
ATTACH;FMTTYPE=image/png:https://ihraustralia.com/wp-content/uploads/2025/01/19-June.png
ORGANIZER;CN="iHR Australia":MAILTO:publictraining@ihraustralia.com
END:VEVENT
BEGIN:VEVENT
DTSTART;TZID=Australia/Melbourne:20250619T090000
DTEND;TZID=Australia/Melbourne:20250619T123000
DTSTAMP:20260423T200857
CREATED:20250109T055810Z
LAST-MODIFIED:20250312T032422Z
UID:10000252-1750323600-1750336200@ihraustralia.com
SUMMARY:Resolving Workplace Conflict - Half Day Workshop
DESCRIPTION:Make the Most of Your Training Day\nJoin our comprehensive ‘Managing Workplace Investigations’ workshop on the same day in the morning and become a skilled workplace investigator. \nManaging Workplace Investigations (9am-12:30pm) \nOR \nMaximise your expertise with our full-day program (9am – 5pm) \nAttend both sessions at a special discounted rate and gain complete conflict resolution skills
URL:https://ihraustralia.com/public-training-event/resolving-workplace-conflict-half-day-workshop-19-june/
LOCATION:Cliftons Brisbane\, 24/288 Edward St\, Brisbane\, QLD\, 4000\, Australia
CATEGORIES:Brisbane
ATTACH;FMTTYPE=image/png:https://ihraustralia.com/wp-content/uploads/2025/01/19-June-1.png
ORGANIZER;CN="iHR Australia":MAILTO:publictraining@ihraustralia.com
END:VEVENT
BEGIN:VEVENT
DTSTART;TZID=Australia/Melbourne:20250619T090000
DTEND;TZID=Australia/Melbourne:20250619T170000
DTSTAMP:20260423T200857
CREATED:20250109T055921Z
LAST-MODIFIED:20250408T004139Z
UID:10000253-1750323600-1750352400@ihraustralia.com
SUMMARY:Managing Workplace Investigations + Resolving Workplace Conflict - Bundled Workshop
DESCRIPTION:Make the Most of Your Training Day\nAttend both these workshops to gain complete conflict resolution skills. Choose between targeted half-day sessions focusing on investigations or mediations\, or maximise your learning with our discounted full-day program that covers both courses. \nCourse Presentation \nManaging Workplace Investigations \n9am-12:30pm \n\nResolving Workplace Conflict \n1:30-5:00pm
URL:https://ihraustralia.com/public-training-event/managing-workplace-investigations-resolving-workplace-conflict-bundled-workshop-19-june/
LOCATION:Cliftons Brisbane\, 24/288 Edward St\, Brisbane\, QLD\, 4000\, Australia
CATEGORIES:Brisbane
ATTACH;FMTTYPE=image/png:https://ihraustralia.com/wp-content/uploads/2025/01/6-May-2.png
ORGANIZER;CN="iHR Australia":MAILTO:publictraining@ihraustralia.com
END:VEVENT
BEGIN:VEVENT
DTSTART;TZID=Australia/Sydney:20250626T090000
DTEND;TZID=Australia/Sydney:20250626T124500
DTSTAMP:20260423T200857
CREATED:20241206T033546Z
LAST-MODIFIED:20250623T032613Z
UID:10000233-1750928400-1750941900@ihraustralia.com
SUMMARY:Anti-Discrimination\, Bullying\, and Harassment Training for Managers
DESCRIPTION:
URL:https://ihraustralia.com/public-training-event/anti-discrimination-bullying-and-harassment-training-26-june/
LOCATION:Cliftons Sydney\, 13/60 Margaret Street\, Sydney\, NSW\, 2000\, Australia
CATEGORIES:Sydney
ATTACH;FMTTYPE=image/png:https://ihraustralia.com/wp-content/uploads/2024/12/CoC-3.png
ORGANIZER;CN="iHR Australia":MAILTO:publictraining@ihraustralia.com
END:VEVENT
END:VCALENDAR