BEGIN:VCALENDAR
VERSION:2.0
PRODID:-//iHR Australia - ECPv6.15.20//NONSGML v1.0//EN
CALSCALE:GREGORIAN
METHOD:PUBLISH
X-WR-CALNAME:iHR Australia
X-ORIGINAL-URL:https://ihraustralia.com
X-WR-CALDESC:Events for iHR Australia
REFRESH-INTERVAL;VALUE=DURATION:PT1H
X-Robots-Tag:noindex
X-PUBLISHED-TTL:PT1H
BEGIN:VTIMEZONE
TZID:Australia/Melbourne
BEGIN:STANDARD
TZOFFSETFROM:+1100
TZOFFSETTO:+1000
TZNAME:AEST
DTSTART:20240406T160000
END:STANDARD
BEGIN:DAYLIGHT
TZOFFSETFROM:+1000
TZOFFSETTO:+1100
TZNAME:AEDT
DTSTART:20241005T160000
END:DAYLIGHT
BEGIN:STANDARD
TZOFFSETFROM:+1100
TZOFFSETTO:+1000
TZNAME:AEST
DTSTART:20250405T160000
END:STANDARD
BEGIN:DAYLIGHT
TZOFFSETFROM:+1000
TZOFFSETTO:+1100
TZNAME:AEDT
DTSTART:20251004T160000
END:DAYLIGHT
BEGIN:STANDARD
TZOFFSETFROM:+1100
TZOFFSETTO:+1000
TZNAME:AEST
DTSTART:20260404T160000
END:STANDARD
BEGIN:DAYLIGHT
TZOFFSETFROM:+1000
TZOFFSETTO:+1100
TZNAME:AEDT
DTSTART:20261003T160000
END:DAYLIGHT
END:VTIMEZONE
BEGIN:VTIMEZONE
TZID:Australia/Sydney
BEGIN:STANDARD
TZOFFSETFROM:+1100
TZOFFSETTO:+1000
TZNAME:AEST
DTSTART:20240406T160000
END:STANDARD
BEGIN:DAYLIGHT
TZOFFSETFROM:+1000
TZOFFSETTO:+1100
TZNAME:AEDT
DTSTART:20241005T160000
END:DAYLIGHT
BEGIN:STANDARD
TZOFFSETFROM:+1100
TZOFFSETTO:+1000
TZNAME:AEST
DTSTART:20250405T160000
END:STANDARD
BEGIN:DAYLIGHT
TZOFFSETFROM:+1000
TZOFFSETTO:+1100
TZNAME:AEDT
DTSTART:20251004T160000
END:DAYLIGHT
BEGIN:STANDARD
TZOFFSETFROM:+1100
TZOFFSETTO:+1000
TZNAME:AEST
DTSTART:20260404T160000
END:STANDARD
BEGIN:DAYLIGHT
TZOFFSETFROM:+1000
TZOFFSETTO:+1100
TZNAME:AEDT
DTSTART:20261003T160000
END:DAYLIGHT
END:VTIMEZONE
BEGIN:VEVENT
DTSTART;TZID=Australia/Melbourne:20250506T090000
DTEND;TZID=Australia/Melbourne:20250506T123000
DTSTAMP:20260423T212250
CREATED:20250109T053627Z
LAST-MODIFIED:20250410T054856Z
UID:10000247-1746522000-1746534600@ihraustralia.com
SUMMARY:Managing Workplace Investigations - Half Day Workshop
DESCRIPTION:Make the Most of Your Training Day\nJoin our comprehensive ‘Resolving Workplace Conflict’ workshop on the same day in the afternoon and become a skilled workplace mediator. Our flexible program lets you: \nSelect a focused half-day session:\nResolving Workplace Conflict (1:30-5:00pm) \nMaximise your expertise with our full-day program (9am – 5pm) \nAttend both sessions at a special discounted rate and gain complete conflict resolution skills
URL:https://ihraustralia.com/public-training-event/managing-workplace-investigations-half-day-workshop-6-may/
LOCATION:The Savoy Hotel\, Melbourne\, 630 Little Collins St\, Melbourne\, Victoria\, 3000\, Australia
CATEGORIES:Melbourne
ATTACH;FMTTYPE=image/png:https://ihraustralia.com/wp-content/uploads/2025/01/6-May.png
ORGANIZER;CN="iHR Australia":MAILTO:publictraining@ihraustralia.com
END:VEVENT
BEGIN:VEVENT
DTSTART;TZID=Australia/Melbourne:20250506T090000
DTEND;TZID=Australia/Melbourne:20250506T170000
DTSTAMP:20260423T212250
CREATED:20250109T053831Z
LAST-MODIFIED:20250502T063227Z
UID:10000250-1746522000-1746550800@ihraustralia.com
SUMMARY:Managing Workplace Investigations + Resolving Workplace Conflict - Bundled Workshop
DESCRIPTION:Make the Most of Your Training Day\nAttend both these workshops to gain complete conflict resolution skills. Choose between targeted half-day sessions focusing on investigations or mediations\, or maximise your learning with our discounted full-day program that covers both courses. \nCourse Presentation \nManaging Workplace Investigations \n9am-12:30pm \n\nResolving Workplace Conflict \n1:30-5:00pm
URL:https://ihraustralia.com/public-training-event/managing-workplace-investigations-resolving-workplace-conflict-bundled-workshop/
LOCATION:The Savoy Hotel\, Melbourne\, 630 Little Collins St\, Melbourne\, Victoria\, 3000\, Australia
CATEGORIES:Melbourne
ATTACH;FMTTYPE=image/png:https://ihraustralia.com/wp-content/uploads/2025/01/6-May-3.png
ORGANIZER;CN="iHR Australia":MAILTO:publictraining@ihraustralia.com
END:VEVENT
BEGIN:VEVENT
DTSTART;TZID=Australia/Melbourne:20250506T133000
DTEND;TZID=Australia/Melbourne:20250506T170000
DTSTAMP:20260423T212250
CREATED:20250109T053748Z
LAST-MODIFIED:20250410T055257Z
UID:10000249-1746538200-1746550800@ihraustralia.com
SUMMARY:Resolving Workplace Conflict - Half Day Workshop
DESCRIPTION:Make the Most of Your Training Day\nJoin our comprehensive ‘Managing Workplace Investigations’ workshop on the same day in the morning and become a skilled workplace investigator. \nManaging Workplace Investigations (9am-12:30pm) \nOR \nMaximise your expertise with our full-day program (9am – 5pm) \nAttend both sessions at a special discounted rate and gain complete conflict resolution skills
URL:https://ihraustralia.com/public-training-event/resolving-workplace-conflict-half-day-workshop-6-may/
LOCATION:The Savoy Hotel\, Melbourne\, 630 Little Collins St\, Melbourne\, Victoria\, 3000\, Australia
CATEGORIES:Melbourne
ATTACH;FMTTYPE=image/png:https://ihraustralia.com/wp-content/uploads/2025/01/6-May-1.png
ORGANIZER;CN="iHR Australia":MAILTO:publictraining@ihraustralia.com
END:VEVENT
BEGIN:VEVENT
DTSTART;TZID=Australia/Melbourne:20250513T120000
DTEND;TZID=Australia/Melbourne:20250513T163000
DTSTAMP:20260423T212250
CREATED:20241206T013642Z
LAST-MODIFIED:20250429T063135Z
UID:10000230-1747137600-1747153800@ihraustralia.com
SUMMARY:Contact Officer Training
DESCRIPTION:
URL:https://ihraustralia.com/public-training-event/contact-officer-training-13-may/
LOCATION:VIRTUAL
CATEGORIES:Virtual
ATTACH;FMTTYPE=image/png:https://ihraustralia.com/wp-content/uploads/2024/12/EA-Feature-image-2.png
ORGANIZER;CN="iHR Australia":MAILTO:publictraining@ihraustralia.com
END:VEVENT
BEGIN:VEVENT
DTSTART;TZID=Australia/Sydney:20250522T090000
DTEND;TZID=Australia/Sydney:20250522T124500
DTSTAMP:20260423T212250
CREATED:20241206T040616Z
LAST-MODIFIED:20250515T025708Z
UID:10000235-1747904400-1747917900@ihraustralia.com
SUMMARY:Anti-Discrimination\, Bullying\, and Harassment Training
DESCRIPTION:
URL:https://ihraustralia.com/public-training-event/anti-discrimination-bullying-and-harassment-training-22-may/
LOCATION:VIRTUAL
CATEGORIES:Virtual
ATTACH;FMTTYPE=image/png:https://ihraustralia.com/wp-content/uploads/2024/12/CoC-4.png
ORGANIZER;CN="iHR Australia":MAILTO:publictraining@ihraustralia.com
END:VEVENT
END:VCALENDAR