BEGIN:VCALENDAR
VERSION:2.0
PRODID:-//iHR Australia - ECPv6.15.20//NONSGML v1.0//EN
CALSCALE:GREGORIAN
METHOD:PUBLISH
X-ORIGINAL-URL:https://ihraustralia.com
X-WR-CALDESC:Events for iHR Australia
REFRESH-INTERVAL;VALUE=DURATION:PT1H
X-Robots-Tag:noindex
X-PUBLISHED-TTL:PT1H
BEGIN:VTIMEZONE
TZID:Australia/Melbourne
BEGIN:STANDARD
TZOFFSETFROM:+1100
TZOFFSETTO:+1000
TZNAME:AEST
DTSTART:20240406T160000
END:STANDARD
BEGIN:DAYLIGHT
TZOFFSETFROM:+1000
TZOFFSETTO:+1100
TZNAME:AEDT
DTSTART:20241005T160000
END:DAYLIGHT
BEGIN:STANDARD
TZOFFSETFROM:+1100
TZOFFSETTO:+1000
TZNAME:AEST
DTSTART:20250405T160000
END:STANDARD
BEGIN:DAYLIGHT
TZOFFSETFROM:+1000
TZOFFSETTO:+1100
TZNAME:AEDT
DTSTART:20251004T160000
END:DAYLIGHT
BEGIN:STANDARD
TZOFFSETFROM:+1100
TZOFFSETTO:+1000
TZNAME:AEST
DTSTART:20260404T160000
END:STANDARD
BEGIN:DAYLIGHT
TZOFFSETFROM:+1000
TZOFFSETTO:+1100
TZNAME:AEDT
DTSTART:20261003T160000
END:DAYLIGHT
END:VTIMEZONE
BEGIN:VTIMEZONE
TZID:Australia/Sydney
BEGIN:STANDARD
TZOFFSETFROM:+1100
TZOFFSETTO:+1000
TZNAME:AEST
DTSTART:20240406T160000
END:STANDARD
BEGIN:DAYLIGHT
TZOFFSETFROM:+1000
TZOFFSETTO:+1100
TZNAME:AEDT
DTSTART:20241005T160000
END:DAYLIGHT
BEGIN:STANDARD
TZOFFSETFROM:+1100
TZOFFSETTO:+1000
TZNAME:AEST
DTSTART:20250405T160000
END:STANDARD
BEGIN:DAYLIGHT
TZOFFSETFROM:+1000
TZOFFSETTO:+1100
TZNAME:AEDT
DTSTART:20251004T160000
END:DAYLIGHT
BEGIN:STANDARD
TZOFFSETFROM:+1100
TZOFFSETTO:+1000
TZNAME:AEST
DTSTART:20260404T160000
END:STANDARD
BEGIN:DAYLIGHT
TZOFFSETFROM:+1000
TZOFFSETTO:+1100
TZNAME:AEDT
DTSTART:20261003T160000
END:DAYLIGHT
END:VTIMEZONE
BEGIN:VEVENT
DTSTART;TZID=Australia/Melbourne:20250306T120000
DTEND;TZID=Australia/Melbourne:20250306T163000
DTSTAMP:20260424T001841
CREATED:20241206T004335Z
LAST-MODIFIED:20250130T025008Z
UID:10000228-1741262400-1741278600@ihraustralia.com
SUMMARY:Contact Officer Training
DESCRIPTION:
URL:https://ihraustralia.com/public-training-event/contact-officer-training-6-mar/
LOCATION:VIRTUAL
CATEGORIES:Virtual
ATTACH;FMTTYPE=image/png:https://ihraustralia.com/wp-content/uploads/2024/12/EA-Feature-image.png
ORGANIZER;CN="iHR Australia":MAILTO:publictraining@ihraustralia.com
END:VEVENT
BEGIN:VEVENT
DTSTART;TZID=Australia/Melbourne:20250318T090000
DTEND;TZID=Australia/Melbourne:20250318T123000
DTSTAMP:20260424T001841
CREATED:20241219T011206Z
LAST-MODIFIED:20241219T044903Z
UID:10000244-1742288400-1742301000@ihraustralia.com
SUMMARY:Managing Workplace Investigations - Half Day Workshop
DESCRIPTION:Make the Most of Your Training Day\nJoin our comprehensive ‘Resolving Workplace Conflict’ workshop on the same day in the afternoon and become a skilled workplace mediator. Our flexible program lets you: \nSelect a focused half-day session:\nResolving Workplace Conflict (1:30-5:00pm) \nMaximise your expertise with our full-day program:\nWorkplace Conflict Management – Investigations and Mediations \nAttend both sessions at a special discounted rate and gain complete conflict resolution skills
URL:https://ihraustralia.com/public-training-event/managing-workplace-investigations-18-mar/
LOCATION:Cliftons Sydney\, 13/60 Margaret Street\, Sydney\, NSW\, 2000\, Australia
CATEGORIES:Sydney
ATTACH;FMTTYPE=image/png:https://ihraustralia.com/wp-content/uploads/2024/12/EA-Feature-image-1.png
ORGANIZER;CN="iHR Australia":MAILTO:publictraining@ihraustralia.com
END:VEVENT
BEGIN:VEVENT
DTSTART;TZID=Australia/Melbourne:20250318T090000
DTEND;TZID=Australia/Melbourne:20250318T123000
DTSTAMP:20260424T001841
CREATED:20241219T012107Z
LAST-MODIFIED:20250122T041313Z
UID:10000245-1742288400-1742301000@ihraustralia.com
SUMMARY:Resolving Workplace Conflict - Half Day Workshop
DESCRIPTION:Make the Most of Your Training Day\nJoin our comprehensive ‘Managing Workplace Investigations’ workshop on the same day in the morning and become a skilled workplace investigator. \nManaging Workplace Investigations (9am-12:30pm) \nOR \nMaximise your expertise with our full-day program (9am – 5pm) \nAttend both sessions at a special discounted rate and gain complete conflict resolution skills
URL:https://ihraustralia.com/public-training-event/resolving-workplace-conflict-18-mar/
LOCATION:Cliftons Sydney\, 13/60 Margaret Street\, Sydney\, NSW\, 2000\, Australia
CATEGORIES:Sydney
ATTACH;FMTTYPE=image/png:https://ihraustralia.com/wp-content/uploads/2024/12/EA-Feature-image-1.png
ORGANIZER;CN="iHR Australia":MAILTO:publictraining@ihraustralia.com
END:VEVENT
BEGIN:VEVENT
DTSTART;TZID=Australia/Melbourne:20250318T090000
DTEND;TZID=Australia/Melbourne:20250318T170000
DTSTAMP:20260424T001841
CREATED:20241209T003740Z
LAST-MODIFIED:20250312T031207Z
UID:10000238-1742288400-1742317200@ihraustralia.com
SUMMARY:Managing Workplace Investigations + Resolving Workplace Conflict - Bundled Workshop
DESCRIPTION:Make the Most of Your Training Day\nAttend both these workshops to gain complete conflict resolution skills. Choose between targeted half-day sessions focusing on investigations or mediations\, or maximise your learning with our discounted full-day program that covers both courses. \nCourse Presentation \nManaging Workplace Investigations \n9am-12:30pm \n\nResolving Workplace Conflict \n1:30-5:00pm
URL:https://ihraustralia.com/public-training-event/workplace-conflict-management-18-mar/
LOCATION:Cliftons Sydney\, 13/60 Margaret Street\, Sydney\, NSW\, 2000\, Australia
CATEGORIES:Sydney
ATTACH;FMTTYPE=image/png:https://ihraustralia.com/wp-content/uploads/2024/12/WIOT.png
ORGANIZER;CN="iHR Australia":MAILTO:publictraining@ihraustralia.com
END:VEVENT
BEGIN:VEVENT
DTSTART;TZID=Australia/Sydney:20250320T090000
DTEND;TZID=Australia/Sydney:20250320T124500
DTSTAMP:20260424T001841
CREATED:20241206T044212Z
LAST-MODIFIED:20241213T054637Z
UID:10000237-1742461200-1742474700@ihraustralia.com
SUMMARY:Anti-Discrimination\, Bullying\, and Harassment Training
DESCRIPTION:
URL:https://ihraustralia.com/public-training-event/anti-discrimination-bullying-and-harassment-training-20-mar/
LOCATION:VIRTUAL
CATEGORIES:Virtual
ATTACH;FMTTYPE=image/png:https://ihraustralia.com/wp-content/uploads/2024/12/EA-Feature-image-4.png
ORGANIZER;CN="iHR Australia":MAILTO:publictraining@ihraustralia.com
END:VEVENT
BEGIN:VEVENT
DTSTART;TZID=Australia/Melbourne:20250327T120000
DTEND;TZID=Australia/Melbourne:20250327T163000
DTSTAMP:20260424T001841
CREATED:20241206T005514Z
LAST-MODIFIED:20241213T055202Z
UID:10000229-1743076800-1743093000@ihraustralia.com
SUMMARY:Contact Officer Training
DESCRIPTION:
URL:https://ihraustralia.com/public-training-event/contact-officer-training-27-mar/
LOCATION:VIRTUAL
CATEGORIES:Virtual
ATTACH;FMTTYPE=image/png:https://ihraustralia.com/wp-content/uploads/2024/12/EA-Feature-image-1.png
ORGANIZER;CN="iHR Australia":MAILTO:publictraining@ihraustralia.com
END:VEVENT
END:VCALENDAR