BEGIN:VCALENDAR
VERSION:2.0
PRODID:-//iHR Australia - ECPv6.15.20//NONSGML v1.0//EN
CALSCALE:GREGORIAN
METHOD:PUBLISH
X-WR-CALNAME:iHR Australia
X-ORIGINAL-URL:https://ihraustralia.com
X-WR-CALDESC:Events for iHR Australia
REFRESH-INTERVAL;VALUE=DURATION:PT1H
X-Robots-Tag:noindex
X-PUBLISHED-TTL:PT1H
BEGIN:VTIMEZONE
TZID:Australia/Melbourne
BEGIN:STANDARD
TZOFFSETFROM:+1100
TZOFFSETTO:+1000
TZNAME:AEST
DTSTART:20240406T160000
END:STANDARD
BEGIN:DAYLIGHT
TZOFFSETFROM:+1000
TZOFFSETTO:+1100
TZNAME:AEDT
DTSTART:20241005T160000
END:DAYLIGHT
BEGIN:STANDARD
TZOFFSETFROM:+1100
TZOFFSETTO:+1000
TZNAME:AEST
DTSTART:20250405T160000
END:STANDARD
BEGIN:DAYLIGHT
TZOFFSETFROM:+1000
TZOFFSETTO:+1100
TZNAME:AEDT
DTSTART:20251004T160000
END:DAYLIGHT
BEGIN:STANDARD
TZOFFSETFROM:+1100
TZOFFSETTO:+1000
TZNAME:AEST
DTSTART:20260404T160000
END:STANDARD
BEGIN:DAYLIGHT
TZOFFSETFROM:+1000
TZOFFSETTO:+1100
TZNAME:AEDT
DTSTART:20261003T160000
END:DAYLIGHT
END:VTIMEZONE
BEGIN:VTIMEZONE
TZID:Australia/Sydney
BEGIN:STANDARD
TZOFFSETFROM:+1100
TZOFFSETTO:+1000
TZNAME:AEST
DTSTART:20240406T160000
END:STANDARD
BEGIN:DAYLIGHT
TZOFFSETFROM:+1000
TZOFFSETTO:+1100
TZNAME:AEDT
DTSTART:20241005T160000
END:DAYLIGHT
BEGIN:STANDARD
TZOFFSETFROM:+1100
TZOFFSETTO:+1000
TZNAME:AEST
DTSTART:20250405T160000
END:STANDARD
BEGIN:DAYLIGHT
TZOFFSETFROM:+1000
TZOFFSETTO:+1100
TZNAME:AEDT
DTSTART:20251004T160000
END:DAYLIGHT
BEGIN:STANDARD
TZOFFSETFROM:+1100
TZOFFSETTO:+1000
TZNAME:AEST
DTSTART:20260404T160000
END:STANDARD
BEGIN:DAYLIGHT
TZOFFSETFROM:+1000
TZOFFSETTO:+1100
TZNAME:AEDT
DTSTART:20261003T160000
END:DAYLIGHT
END:VTIMEZONE
BEGIN:VEVENT
DTSTART;TZID=Australia/Melbourne:20250213T120000
DTEND;TZID=Australia/Melbourne:20250213T163000
DTSTAMP:20260424T013145
CREATED:20241206T000918Z
LAST-MODIFIED:20250205T225450Z
UID:10000226-1739448000-1739464200@ihraustralia.com
SUMMARY:Contact Officer Training
DESCRIPTION:
URL:https://ihraustralia.com/public-training-event/contact-officer-training-13-feb/
LOCATION:VIRTUAL
CATEGORIES:Virtual
ATTACH;FMTTYPE=image/png:https://ihraustralia.com/wp-content/uploads/2024/12/COT-2.png
ORGANIZER;CN="iHR Australia":MAILTO:publictraining@ihraustralia.com
END:VEVENT
BEGIN:VEVENT
DTSTART;TZID=Australia/Sydney:20250225T090000
DTEND;TZID=Australia/Sydney:20250225T124500
DTSTAMP:20260424T013145
CREATED:20241206T025656Z
LAST-MODIFIED:20250213T055026Z
UID:10000232-1740474000-1740487500@ihraustralia.com
SUMMARY:Anti-Discrimination\, Bullying\, and Harassment Training
DESCRIPTION:
URL:https://ihraustralia.com/public-training-event/anti-discrimination-bullying-and-harassment-training-25-feb/
LOCATION:The Savoy Hotel\, Melbourne\, 630 Little Collins St\, Melbourne\, Victoria\, 3000\, Australia
CATEGORIES:Melbourne
ATTACH;FMTTYPE=image/png:https://ihraustralia.com/wp-content/uploads/2024/12/COC-1.png
ORGANIZER;CN="iHR Australia":MAILTO:publictraining@ihraustralia.com
END:VEVENT
END:VCALENDAR